BEGIN:VCALENDAR
VERSION:2.0
PRODID:-//Spicer, MN - ECPv6.15.17.1//NONSGML v1.0//EN
CALSCALE:GREGORIAN
METHOD:PUBLISH
X-WR-CALNAME:Spicer, MN
X-ORIGINAL-URL:https://explorespicer.com
X-WR-CALDESC:Events for Spicer, MN
REFRESH-INTERVAL;VALUE=DURATION:PT1H
X-Robots-Tag:noindex
X-PUBLISHED-TTL:PT1H
BEGIN:VTIMEZONE
TZID:America/Chicago
BEGIN:DAYLIGHT
TZOFFSETFROM:-0600
TZOFFSETTO:-0500
TZNAME:CDT
DTSTART:20230312T080000
END:DAYLIGHT
BEGIN:STANDARD
TZOFFSETFROM:-0500
TZOFFSETTO:-0600
TZNAME:CST
DTSTART:20231105T070000
END:STANDARD
BEGIN:DAYLIGHT
TZOFFSETFROM:-0600
TZOFFSETTO:-0500
TZNAME:CDT
DTSTART:20240310T080000
END:DAYLIGHT
BEGIN:STANDARD
TZOFFSETFROM:-0500
TZOFFSETTO:-0600
TZNAME:CST
DTSTART:20241103T070000
END:STANDARD
BEGIN:DAYLIGHT
TZOFFSETFROM:-0600
TZOFFSETTO:-0500
TZNAME:CDT
DTSTART:20250309T080000
END:DAYLIGHT
BEGIN:STANDARD
TZOFFSETFROM:-0500
TZOFFSETTO:-0600
TZNAME:CST
DTSTART:20251102T070000
END:STANDARD
BEGIN:DAYLIGHT
TZOFFSETFROM:-0600
TZOFFSETTO:-0500
TZNAME:CDT
DTSTART:20260308T080000
END:DAYLIGHT
BEGIN:STANDARD
TZOFFSETFROM:-0500
TZOFFSETTO:-0600
TZNAME:CST
DTSTART:20261101T070000
END:STANDARD
END:VTIMEZONE
BEGIN:VEVENT
DTSTART;TZID=America/Chicago:20241221T110000
DTEND;TZID=America/Chicago:20241221T150000
DTSTAMP:20260420T091409
CREATED:20241209T212149Z
LAST-MODIFIED:20241209T212149Z
UID:10001146-1734778800-1734793200@explorespicer.com
SUMMARY:Bloody Mary Bar at Zorbaz
DESCRIPTION:
URL:https://explorespicer.com/event/bloody-mary-bar-at-zorbaz-3/2024-12-21/
LOCATION:Zorbaz\, 159 Lake Ave S\, Spicer\, MN\, 56288\, United States
GEO:45.2303787;-94.936515
X-APPLE-STRUCTURED-LOCATION;VALUE=URI;X-ADDRESS=Zorbaz 159 Lake Ave S Spicer MN 56288 United States;X-APPLE-RADIUS=500;X-TITLE=159 Lake Ave S:geo:-94.936515,45.2303787
END:VEVENT
BEGIN:VEVENT
DTSTART;TZID=America/Chicago:20241222T110000
DTEND;TZID=America/Chicago:20241222T150000
DTSTAMP:20260420T091409
CREATED:20241209T213347Z
LAST-MODIFIED:20241209T213347Z
UID:10001154-1734865200-1734879600@explorespicer.com
SUMMARY:Bloody Mary Bar at Zorbaz
DESCRIPTION:
URL:https://explorespicer.com/event/bloody-mary-bar-at-zorbaz-4/2024-12-22/
LOCATION:Zorbaz\, 159 Lake Ave S\, Spicer\, MN\, 56288\, United States
GEO:45.2303787;-94.936515
X-APPLE-STRUCTURED-LOCATION;VALUE=URI;X-ADDRESS=Zorbaz 159 Lake Ave S Spicer MN 56288 United States;X-APPLE-RADIUS=500;X-TITLE=159 Lake Ave S:geo:-94.936515,45.2303787
END:VEVENT
BEGIN:VEVENT
DTSTART;TZID=America/Chicago:20241225T190000
DTEND;TZID=America/Chicago:20241225T210000
DTSTAMP:20260420T091409
CREATED:20241209T211607Z
LAST-MODIFIED:20241209T211607Z
UID:10001077-1735153200-1735160400@explorespicer.com
SUMMARY:Bingo at Zorbaz
DESCRIPTION:
URL:https://explorespicer.com/event/bingo-at-zorbaz-2/2024-12-25/
LOCATION:Zorbaz\, 159 Lake Ave S\, Spicer\, MN\, 56288\, United States
GEO:45.2303787;-94.936515
X-APPLE-STRUCTURED-LOCATION;VALUE=URI;X-ADDRESS=Zorbaz 159 Lake Ave S Spicer MN 56288 United States;X-APPLE-RADIUS=500;X-TITLE=159 Lake Ave S:geo:-94.936515,45.2303787
END:VEVENT
BEGIN:VEVENT
DTSTART;TZID=America/Chicago:20241227T220000
DTEND;TZID=America/Chicago:20241228T020000
DTSTAMP:20260420T091409
CREATED:20241209T211803Z
LAST-MODIFIED:20250307T201454Z
UID:10001085-1735336800-1735351200@explorespicer.com
SUMMARY:DJ at Zorbaz
DESCRIPTION:
URL:https://explorespicer.com/event/dj-at-zorbaz-3/2024-12-27/
LOCATION:Zorbaz\, 159 Lake Ave S\, Spicer\, MN\, 56288\, United States
GEO:45.2303787;-94.936515
X-APPLE-STRUCTURED-LOCATION;VALUE=URI;X-ADDRESS=Zorbaz 159 Lake Ave S Spicer MN 56288 United States;X-APPLE-RADIUS=500;X-TITLE=159 Lake Ave S:geo:-94.936515,45.2303787
END:VEVENT
BEGIN:VEVENT
DTSTART;TZID=America/Chicago:20241228T110000
DTEND;TZID=America/Chicago:20241228T150000
DTSTAMP:20260420T091409
CREATED:20241209T212149Z
LAST-MODIFIED:20241209T212149Z
UID:10001147-1735383600-1735398000@explorespicer.com
SUMMARY:Bloody Mary Bar at Zorbaz
DESCRIPTION:
URL:https://explorespicer.com/event/bloody-mary-bar-at-zorbaz-3/2024-12-28/
LOCATION:Zorbaz\, 159 Lake Ave S\, Spicer\, MN\, 56288\, United States
GEO:45.2303787;-94.936515
X-APPLE-STRUCTURED-LOCATION;VALUE=URI;X-ADDRESS=Zorbaz 159 Lake Ave S Spicer MN 56288 United States;X-APPLE-RADIUS=500;X-TITLE=159 Lake Ave S:geo:-94.936515,45.2303787
END:VEVENT
BEGIN:VEVENT
DTSTART;TZID=America/Chicago:20241229T110000
DTEND;TZID=America/Chicago:20241229T150000
DTSTAMP:20260420T091409
CREATED:20241209T213347Z
LAST-MODIFIED:20241209T213347Z
UID:10001155-1735470000-1735484400@explorespicer.com
SUMMARY:Bloody Mary Bar at Zorbaz
DESCRIPTION:
URL:https://explorespicer.com/event/bloody-mary-bar-at-zorbaz-4/2024-12-29/
LOCATION:Zorbaz\, 159 Lake Ave S\, Spicer\, MN\, 56288\, United States
GEO:45.2303787;-94.936515
X-APPLE-STRUCTURED-LOCATION;VALUE=URI;X-ADDRESS=Zorbaz 159 Lake Ave S Spicer MN 56288 United States;X-APPLE-RADIUS=500;X-TITLE=159 Lake Ave S:geo:-94.936515,45.2303787
END:VEVENT
BEGIN:VEVENT
DTSTART;TZID=America/Chicago:20250101T190000
DTEND;TZID=America/Chicago:20250101T210000
DTSTAMP:20260420T091409
CREATED:20241209T211607Z
LAST-MODIFIED:20241209T211607Z
UID:10001078-1735758000-1735765200@explorespicer.com
SUMMARY:Bingo at Zorbaz
DESCRIPTION:
URL:https://explorespicer.com/event/bingo-at-zorbaz-2/2025-01-01/
LOCATION:Zorbaz\, 159 Lake Ave S\, Spicer\, MN\, 56288\, United States
GEO:45.2303787;-94.936515
X-APPLE-STRUCTURED-LOCATION;VALUE=URI;X-ADDRESS=Zorbaz 159 Lake Ave S Spicer MN 56288 United States;X-APPLE-RADIUS=500;X-TITLE=159 Lake Ave S:geo:-94.936515,45.2303787
END:VEVENT
BEGIN:VEVENT
DTSTART;TZID=America/Chicago:20250103T220000
DTEND;TZID=America/Chicago:20250104T020000
DTSTAMP:20260420T091409
CREATED:20241209T211803Z
LAST-MODIFIED:20250307T201454Z
UID:10001086-1735941600-1735956000@explorespicer.com
SUMMARY:DJ at Zorbaz
DESCRIPTION:
URL:https://explorespicer.com/event/dj-at-zorbaz-3/2025-01-03/
LOCATION:Zorbaz\, 159 Lake Ave S\, Spicer\, MN\, 56288\, United States
GEO:45.2303787;-94.936515
X-APPLE-STRUCTURED-LOCATION;VALUE=URI;X-ADDRESS=Zorbaz 159 Lake Ave S Spicer MN 56288 United States;X-APPLE-RADIUS=500;X-TITLE=159 Lake Ave S:geo:-94.936515,45.2303787
END:VEVENT
BEGIN:VEVENT
DTSTART;TZID=America/Chicago:20250104T110000
DTEND;TZID=America/Chicago:20250104T150000
DTSTAMP:20260420T091409
CREATED:20241209T212149Z
LAST-MODIFIED:20241209T212149Z
UID:10001148-1735988400-1736002800@explorespicer.com
SUMMARY:Bloody Mary Bar at Zorbaz
DESCRIPTION:
URL:https://explorespicer.com/event/bloody-mary-bar-at-zorbaz-3/2025-01-04/
LOCATION:Zorbaz\, 159 Lake Ave S\, Spicer\, MN\, 56288\, United States
GEO:45.2303787;-94.936515
X-APPLE-STRUCTURED-LOCATION;VALUE=URI;X-ADDRESS=Zorbaz 159 Lake Ave S Spicer MN 56288 United States;X-APPLE-RADIUS=500;X-TITLE=159 Lake Ave S:geo:-94.936515,45.2303787
END:VEVENT
BEGIN:VEVENT
DTSTART;TZID=America/Chicago:20250105T110000
DTEND;TZID=America/Chicago:20250105T150000
DTSTAMP:20260420T091409
CREATED:20241209T213347Z
LAST-MODIFIED:20241209T213347Z
UID:10001156-1736074800-1736089200@explorespicer.com
SUMMARY:Bloody Mary Bar at Zorbaz
DESCRIPTION:
URL:https://explorespicer.com/event/bloody-mary-bar-at-zorbaz-4/2025-01-05/
LOCATION:Zorbaz\, 159 Lake Ave S\, Spicer\, MN\, 56288\, United States
GEO:45.2303787;-94.936515
X-APPLE-STRUCTURED-LOCATION;VALUE=URI;X-ADDRESS=Zorbaz 159 Lake Ave S Spicer MN 56288 United States;X-APPLE-RADIUS=500;X-TITLE=159 Lake Ave S:geo:-94.936515,45.2303787
END:VEVENT
BEGIN:VEVENT
DTSTART;TZID=America/Chicago:20250108T190000
DTEND;TZID=America/Chicago:20250108T210000
DTSTAMP:20260420T091409
CREATED:20241209T211607Z
LAST-MODIFIED:20241209T211607Z
UID:10001079-1736362800-1736370000@explorespicer.com
SUMMARY:Bingo at Zorbaz
DESCRIPTION:
URL:https://explorespicer.com/event/bingo-at-zorbaz-2/2025-01-08/
LOCATION:Zorbaz\, 159 Lake Ave S\, Spicer\, MN\, 56288\, United States
GEO:45.2303787;-94.936515
X-APPLE-STRUCTURED-LOCATION;VALUE=URI;X-ADDRESS=Zorbaz 159 Lake Ave S Spicer MN 56288 United States;X-APPLE-RADIUS=500;X-TITLE=159 Lake Ave S:geo:-94.936515,45.2303787
END:VEVENT
BEGIN:VEVENT
DTSTART;VALUE=DATE:20250110
DTEND;VALUE=DATE:20250113
DTSTAMP:20260420T091409
CREATED:20241209T213438Z
LAST-MODIFIED:20241209T213438Z
UID:10001162-1736467200-1736726399@explorespicer.com
SUMMARY:Ice Castle Construction
DESCRIPTION:
URL:https://explorespicer.com/event/ice-castle-construction/
LOCATION:Saulsbury Beach\, 151 Lake Ave S.\, Spicer\, MN\, 56288\, United States
ORGANIZER;CN="Spicer Commercial Club":MAILTO:explorespicer@gmail.com
GEO:45.2312998;-94.93749
X-APPLE-STRUCTURED-LOCATION;VALUE=URI;X-ADDRESS=Saulsbury Beach 151 Lake Ave S. Spicer MN 56288 United States;X-APPLE-RADIUS=500;X-TITLE=151 Lake Ave S.:geo:-94.93749,45.2312998
END:VEVENT
BEGIN:VEVENT
DTSTART;TZID=America/Chicago:20250110T220000
DTEND;TZID=America/Chicago:20250111T020000
DTSTAMP:20260420T091409
CREATED:20241209T211803Z
LAST-MODIFIED:20250307T201454Z
UID:10001087-1736546400-1736560800@explorespicer.com
SUMMARY:DJ at Zorbaz
DESCRIPTION:
URL:https://explorespicer.com/event/dj-at-zorbaz-3/2025-01-10/
LOCATION:Zorbaz\, 159 Lake Ave S\, Spicer\, MN\, 56288\, United States
GEO:45.2303787;-94.936515
X-APPLE-STRUCTURED-LOCATION;VALUE=URI;X-ADDRESS=Zorbaz 159 Lake Ave S Spicer MN 56288 United States;X-APPLE-RADIUS=500;X-TITLE=159 Lake Ave S:geo:-94.936515,45.2303787
END:VEVENT
BEGIN:VEVENT
DTSTART;TZID=America/Chicago:20250111T110000
DTEND;TZID=America/Chicago:20250111T150000
DTSTAMP:20260420T091409
CREATED:20241209T212149Z
LAST-MODIFIED:20241209T212149Z
UID:10001149-1736593200-1736607600@explorespicer.com
SUMMARY:Bloody Mary Bar at Zorbaz
DESCRIPTION:
URL:https://explorespicer.com/event/bloody-mary-bar-at-zorbaz-3/2025-01-11/
LOCATION:Zorbaz\, 159 Lake Ave S\, Spicer\, MN\, 56288\, United States
GEO:45.2303787;-94.936515
X-APPLE-STRUCTURED-LOCATION;VALUE=URI;X-ADDRESS=Zorbaz 159 Lake Ave S Spicer MN 56288 United States;X-APPLE-RADIUS=500;X-TITLE=159 Lake Ave S:geo:-94.936515,45.2303787
END:VEVENT
BEGIN:VEVENT
DTSTART;TZID=America/Chicago:20250112T110000
DTEND;TZID=America/Chicago:20250112T150000
DTSTAMP:20260420T091409
CREATED:20241209T213347Z
LAST-MODIFIED:20241209T213347Z
UID:10001157-1736679600-1736694000@explorespicer.com
SUMMARY:Bloody Mary Bar at Zorbaz
DESCRIPTION:
URL:https://explorespicer.com/event/bloody-mary-bar-at-zorbaz-4/2025-01-12/
LOCATION:Zorbaz\, 159 Lake Ave S\, Spicer\, MN\, 56288\, United States
GEO:45.2303787;-94.936515
X-APPLE-STRUCTURED-LOCATION;VALUE=URI;X-ADDRESS=Zorbaz 159 Lake Ave S Spicer MN 56288 United States;X-APPLE-RADIUS=500;X-TITLE=159 Lake Ave S:geo:-94.936515,45.2303787
END:VEVENT
BEGIN:VEVENT
DTSTART;TZID=America/Chicago:20250115T190000
DTEND;TZID=America/Chicago:20250115T210000
DTSTAMP:20260420T091410
CREATED:20241209T211607Z
LAST-MODIFIED:20241209T211607Z
UID:10001080-1736967600-1736974800@explorespicer.com
SUMMARY:Bingo at Zorbaz
DESCRIPTION:
URL:https://explorespicer.com/event/bingo-at-zorbaz-2/2025-01-15/
LOCATION:Zorbaz\, 159 Lake Ave S\, Spicer\, MN\, 56288\, United States
GEO:45.2303787;-94.936515
X-APPLE-STRUCTURED-LOCATION;VALUE=URI;X-ADDRESS=Zorbaz 159 Lake Ave S Spicer MN 56288 United States;X-APPLE-RADIUS=500;X-TITLE=159 Lake Ave S:geo:-94.936515,45.2303787
END:VEVENT
BEGIN:VEVENT
DTSTART;TZID=America/Chicago:20250116T190000
DTEND;TZID=America/Chicago:20250116T220000
DTSTAMP:20260420T091410
CREATED:20241209T214128Z
LAST-MODIFIED:20241209T214128Z
UID:10001163-1737054000-1737064800@explorespicer.com
SUMMARY:Line Dancing Lessons at Zorbaz
DESCRIPTION:https://www.facebook.com/NickLillebergOpen
URL:https://explorespicer.com/event/line-dancing-lessons-at-zorbaz/
LOCATION:Zorbaz\, 159 Lake Ave S\, Spicer\, MN\, 56288\, United States
GEO:45.2303787;-94.936515
X-APPLE-STRUCTURED-LOCATION;VALUE=URI;X-ADDRESS=Zorbaz 159 Lake Ave S Spicer MN 56288 United States;X-APPLE-RADIUS=500;X-TITLE=159 Lake Ave S:geo:-94.936515,45.2303787
END:VEVENT
BEGIN:VEVENT
DTSTART;TZID=America/Chicago:20250117T220000
DTEND;TZID=America/Chicago:20250118T020000
DTSTAMP:20260420T091410
CREATED:20241209T211803Z
LAST-MODIFIED:20250307T201454Z
UID:10001088-1737151200-1737165600@explorespicer.com
SUMMARY:DJ at Zorbaz
DESCRIPTION:
URL:https://explorespicer.com/event/dj-at-zorbaz-3/2025-01-17/
LOCATION:Zorbaz\, 159 Lake Ave S\, Spicer\, MN\, 56288\, United States
GEO:45.2303787;-94.936515
X-APPLE-STRUCTURED-LOCATION;VALUE=URI;X-ADDRESS=Zorbaz 159 Lake Ave S Spicer MN 56288 United States;X-APPLE-RADIUS=500;X-TITLE=159 Lake Ave S:geo:-94.936515,45.2303787
END:VEVENT
BEGIN:VEVENT
DTSTART;TZID=America/Chicago:20250118T080000
DTEND;TZID=America/Chicago:20250118T170000
DTSTAMP:20260420T091410
CREATED:20241025T152005Z
LAST-MODIFIED:20250105T204229Z
UID:10001057-1737187200-1737219600@explorespicer.com
SUMMARY:Central MN Pond Racing
DESCRIPTION:CANCELLED \nSpicer is excited to host Central Minnesota Pond Racing on Saturday\, January 18\, 2025.\nEvents will take place on Green Lake in front of Zorbaz \nRegistration 8-10:00 am\nHot Laps 8-10:00 am\nRacing starts at 11:00 am \n26 classes of late model and vintage racing\, free admission to spectators \nRace details will be available on the CMPR website and on our website as they become available.\nFor more info on CMPR contact Mike at mike@vsca.com or 320-815-1888
URL:https://explorespicer.com/event/central-mn-pond-racing/
LOCATION:Green Lake\, Spicer\, MN\, 56288\, United States
ATTACH;FMTTYPE=image/jpeg:https://explorespicer.com/wp-content/uploads/2024/10/CMPR-2025-Schedule-1024x576-1.jpg
GEO:45.2330198;-94.9400088
END:VEVENT
BEGIN:VEVENT
DTSTART;TZID=America/Chicago:20250118T083000
DTEND;TZID=America/Chicago:20250118T160000
DTSTAMP:20260420T091410
CREATED:20241209T210934Z
LAST-MODIFIED:20250105T204158Z
UID:10001065-1737189000-1737216000@explorespicer.com
SUMMARY:Spicer Speed 25
DESCRIPTION:CANCELLED \nSpicer Speed 25 – Speed Run on Green Lake \nRegistration 8:30-10am\, racing starts at 10am\, free event to watch. \nFor more info\, call Shaina at 320-250-0667\, Kurt at 218-929-8043 or visit Straight Line Speed Association on Facebook.
URL:https://explorespicer.com/event/spicer-speed-25/
LOCATION:Green Lake\, Spicer\, MN\, 56288\, United States
GEO:45.2330198;-94.9400088
END:VEVENT
BEGIN:VEVENT
DTSTART;TZID=America/Chicago:20250118T110000
DTEND;TZID=America/Chicago:20250118T150000
DTSTAMP:20260420T091410
CREATED:20241209T212149Z
LAST-MODIFIED:20241209T212149Z
UID:10001150-1737198000-1737212400@explorespicer.com
SUMMARY:Bloody Mary Bar at Zorbaz
DESCRIPTION:
URL:https://explorespicer.com/event/bloody-mary-bar-at-zorbaz-3/2025-01-18/
LOCATION:Zorbaz\, 159 Lake Ave S\, Spicer\, MN\, 56288\, United States
GEO:45.2303787;-94.936515
X-APPLE-STRUCTURED-LOCATION;VALUE=URI;X-ADDRESS=Zorbaz 159 Lake Ave S Spicer MN 56288 United States;X-APPLE-RADIUS=500;X-TITLE=159 Lake Ave S:geo:-94.936515,45.2303787
END:VEVENT
BEGIN:VEVENT
DTSTART;TZID=America/Chicago:20250119T110000
DTEND;TZID=America/Chicago:20250119T150000
DTSTAMP:20260420T091410
CREATED:20241209T213347Z
LAST-MODIFIED:20241209T213347Z
UID:10001158-1737284400-1737298800@explorespicer.com
SUMMARY:Bloody Mary Bar at Zorbaz
DESCRIPTION:
URL:https://explorespicer.com/event/bloody-mary-bar-at-zorbaz-4/2025-01-19/
LOCATION:Zorbaz\, 159 Lake Ave S\, Spicer\, MN\, 56288\, United States
GEO:45.2303787;-94.936515
X-APPLE-STRUCTURED-LOCATION;VALUE=URI;X-ADDRESS=Zorbaz 159 Lake Ave S Spicer MN 56288 United States;X-APPLE-RADIUS=500;X-TITLE=159 Lake Ave S:geo:-94.936515,45.2303787
END:VEVENT
BEGIN:VEVENT
DTSTART;TZID=America/Chicago:20250119T120000
DTEND;TZID=America/Chicago:20250119T163000
DTSTAMP:20260420T091410
CREATED:20241209T205241Z
LAST-MODIFIED:20241209T205241Z
UID:10001064-1737288000-1737304200@explorespicer.com
SUMMARY:7th Annual Kids Ice Fishing Derby
DESCRIPTION:7th Annual Kids Ice Fishing Derby in front of Pirrotta Park on Green Lake – organized by New London Real Estate \nRegistration 11am-12pm @ Pirrotta Park\, main event 12pm-1:30pm\, $5/child 15 yrs and younger\, must be accompanied by an adult. All participants must provide their own bait/equipment. Portable houses are allowed. Lunch at O’Neil’s Events Center at 2-3pm\, prize drawings at 2:30pm. For more info\, call Earl Rich 320-894-5399
URL:https://explorespicer.com/event/7th-annual-kids-ice-fishing-derby/
LOCATION:Green Lake\, Spicer\, MN\, 56288\, United States
GEO:45.2330198;-94.9400088
END:VEVENT
BEGIN:VEVENT
DTSTART;TZID=America/Chicago:20250122T190000
DTEND;TZID=America/Chicago:20250122T210000
DTSTAMP:20260420T091410
CREATED:20241209T211607Z
LAST-MODIFIED:20241209T211607Z
UID:10001081-1737572400-1737579600@explorespicer.com
SUMMARY:Bingo at Zorbaz
DESCRIPTION:
URL:https://explorespicer.com/event/bingo-at-zorbaz-2/2025-01-22/
LOCATION:Zorbaz\, 159 Lake Ave S\, Spicer\, MN\, 56288\, United States
GEO:45.2303787;-94.936515
X-APPLE-STRUCTURED-LOCATION;VALUE=URI;X-ADDRESS=Zorbaz 159 Lake Ave S Spicer MN 56288 United States;X-APPLE-RADIUS=500;X-TITLE=159 Lake Ave S:geo:-94.936515,45.2303787
END:VEVENT
BEGIN:VEVENT
DTSTART;TZID=America/Chicago:20250124T170000
DTEND;TZID=America/Chicago:20250124T190000
DTSTAMP:20260420T091410
CREATED:20241209T214446Z
LAST-MODIFIED:20241209T214446Z
UID:10001166-1737738000-1737745200@explorespicer.com
SUMMARY:Pre-registration for Polar Plunge at Spicer American Legion
DESCRIPTION:Pre-registration for Polar Plunge at Spicer American Legion for: \n20th Annual Polar Plunge 2025: 12 pm Plunge\, Saturday\, January 25th\, 2025 \nSaulsbury Beach on Green Lake \nA benefit for Special Olympics MN \nSponsored by Willmar Police Dept. and Kandiyohi County Sheriff’s Office \nRegister: https://www.plungemn.org/events/willmarspicer/
URL:https://explorespicer.com/event/pre-registration-for-polar-plunge-at-spicer-american-legion-2/
LOCATION:Spicer American Legion\, 155 Lake Ave N\, Spicer\, MN\, 56288\, United States
GEO:45.23045;-94.9382623
X-APPLE-STRUCTURED-LOCATION;VALUE=URI;X-ADDRESS=Spicer American Legion 155 Lake Ave N Spicer MN 56288 United States;X-APPLE-RADIUS=500;X-TITLE=155 Lake Ave N:geo:-94.9382623,45.23045
END:VEVENT
BEGIN:VEVENT
DTSTART;TZID=America/Chicago:20250124T200000
DTEND;TZID=America/Chicago:20250124T230000
DTSTAMP:20260420T091410
CREATED:20241209T214318Z
LAST-MODIFIED:20241209T214318Z
UID:10001165-1737748800-1737759600@explorespicer.com
SUMMARY:Live Music at O'Neil's
DESCRIPTION:
URL:https://explorespicer.com/event/live-music-at-oneils-4/
LOCATION:O’Neil’s\, 152 Lake Ave N\, Spicer\, MN\, 56288\, United States
GEO:45.2358481;-94.93903
X-APPLE-STRUCTURED-LOCATION;VALUE=URI;X-ADDRESS=O’Neil’s 152 Lake Ave N Spicer MN 56288 United States;X-APPLE-RADIUS=500;X-TITLE=152 Lake Ave N:geo:-94.93903,45.2358481
END:VEVENT
BEGIN:VEVENT
DTSTART;TZID=America/Chicago:20250124T220000
DTEND;TZID=America/Chicago:20250125T020000
DTSTAMP:20260420T091410
CREATED:20241209T211803Z
LAST-MODIFIED:20250307T201454Z
UID:10001089-1737756000-1737770400@explorespicer.com
SUMMARY:DJ at Zorbaz
DESCRIPTION:
URL:https://explorespicer.com/event/dj-at-zorbaz-3/2025-01-24/
LOCATION:Zorbaz\, 159 Lake Ave S\, Spicer\, MN\, 56288\, United States
GEO:45.2303787;-94.936515
X-APPLE-STRUCTURED-LOCATION;VALUE=URI;X-ADDRESS=Zorbaz 159 Lake Ave S Spicer MN 56288 United States;X-APPLE-RADIUS=500;X-TITLE=159 Lake Ave S:geo:-94.936515,45.2303787
END:VEVENT
BEGIN:VEVENT
DTSTART;TZID=America/Chicago:20250125T090000
DTEND;TZID=America/Chicago:20250125T113000
DTSTAMP:20260420T091410
CREATED:20241209T214549Z
LAST-MODIFIED:20241209T214549Z
UID:10001167-1737795600-1737804600@explorespicer.com
SUMMARY:Polar Plunge Registration at Spicer American Legion
DESCRIPTION:
URL:https://explorespicer.com/event/polar-plunge-registration-at-spicer-american-legion/
LOCATION:Spicer American Legion\, 155 Lake Ave N\, Spicer\, MN\, 56288\, United States
GEO:45.23045;-94.9382623
X-APPLE-STRUCTURED-LOCATION;VALUE=URI;X-ADDRESS=Spicer American Legion 155 Lake Ave N Spicer MN 56288 United States;X-APPLE-RADIUS=500;X-TITLE=155 Lake Ave N:geo:-94.9382623,45.23045
END:VEVENT
BEGIN:VEVENT
DTSTART;TZID=America/Chicago:20250125T110000
DTEND;TZID=America/Chicago:20250125T150000
DTSTAMP:20260420T091410
CREATED:20241209T212149Z
LAST-MODIFIED:20241209T212149Z
UID:10001151-1737802800-1737817200@explorespicer.com
SUMMARY:Bloody Mary Bar at Zorbaz
DESCRIPTION:
URL:https://explorespicer.com/event/bloody-mary-bar-at-zorbaz-3/2025-01-25/
LOCATION:Zorbaz\, 159 Lake Ave S\, Spicer\, MN\, 56288\, United States
GEO:45.2303787;-94.936515
X-APPLE-STRUCTURED-LOCATION;VALUE=URI;X-ADDRESS=Zorbaz 159 Lake Ave S Spicer MN 56288 United States;X-APPLE-RADIUS=500;X-TITLE=159 Lake Ave S:geo:-94.936515,45.2303787
END:VEVENT
BEGIN:VEVENT
DTSTART;TZID=America/Chicago:20250125T120000
DTEND;TZID=America/Chicago:20250125T130000
DTSTAMP:20260420T091410
CREATED:20241025T152304Z
LAST-MODIFIED:20241209T204723Z
UID:10001058-1737806400-1737810000@explorespicer.com
SUMMARY:Polar Plunge
DESCRIPTION:2025 Willmar/Spicer Polar Plunge into Green Lake\nSaturday\, January 25th\nPlunge begins at 12pm \nThe Polar Plunge is back in Spicer for the 20th year in a row! The Willmar/Spicer Plunge has raised over $1\,031\,740 in its 18-year history. In 2023\, 249 Plungers raised $67\,155! \nAre you ready to do something wild for something good? Every dollar you raise supports Special Olympics Minnesota. You got this! \nPRE-REGISTRATION/CHECK IN\nFri\, Jan 24\, 2025 | 5-7 PM\nat the Spicer American Legion \nDAY-OF REGISTRATION/CHECK IN\nSat\, Jan 25\, 2025 | 9 AM\nat the Spicer American Legion \nRegister online at https://www.plungemn.org/events/willmarspicer/ \nThe Polar Plunge is the biggest fundraiser for Special Olympics Minnesota. All funds raised by Plungers help Special Olympics Minnesota provide year-round training and services to thousands of athletes with intellectual disabilities across the state. \nThe Polar Plunge is presented by the Law Enforcement Torch Run\, a movement of volunteers dedicated to increasing awareness and funds for Special Olympics Minnesota athletes across the state. It is sponsored by the Willmar Police Department and the Kandiyohi County Sheriff’s Office.
URL:https://explorespicer.com/event/polar-plunge/
LOCATION:Green Lake\, Spicer\, MN\, 56288\, United States
ATTACH;FMTTYPE=image/png:https://explorespicer.com/wp-content/uploads/2024/10/Polar-Plunge-426x426-1.png
GEO:45.2330198;-94.9400088
END:VEVENT
END:VCALENDAR