BEGIN:VCALENDAR
VERSION:2.0
PRODID:-//Spicer, MN - ECPv6.15.17.1//NONSGML v1.0//EN
CALSCALE:GREGORIAN
METHOD:PUBLISH
X-WR-CALNAME:Spicer, MN
X-ORIGINAL-URL:https://explorespicer.com
X-WR-CALDESC:Events for Spicer, MN
REFRESH-INTERVAL;VALUE=DURATION:PT1H
X-Robots-Tag:noindex
X-PUBLISHED-TTL:PT1H
BEGIN:VTIMEZONE
TZID:America/Chicago
BEGIN:DAYLIGHT
TZOFFSETFROM:-0600
TZOFFSETTO:-0500
TZNAME:CDT
DTSTART:20200308T080000
END:DAYLIGHT
BEGIN:STANDARD
TZOFFSETFROM:-0500
TZOFFSETTO:-0600
TZNAME:CST
DTSTART:20201101T070000
END:STANDARD
BEGIN:DAYLIGHT
TZOFFSETFROM:-0600
TZOFFSETTO:-0500
TZNAME:CDT
DTSTART:20210314T080000
END:DAYLIGHT
BEGIN:STANDARD
TZOFFSETFROM:-0500
TZOFFSETTO:-0600
TZNAME:CST
DTSTART:20211107T070000
END:STANDARD
BEGIN:DAYLIGHT
TZOFFSETFROM:-0600
TZOFFSETTO:-0500
TZNAME:CDT
DTSTART:20220313T080000
END:DAYLIGHT
BEGIN:STANDARD
TZOFFSETFROM:-0500
TZOFFSETTO:-0600
TZNAME:CST
DTSTART:20221106T070000
END:STANDARD
BEGIN:DAYLIGHT
TZOFFSETFROM:-0600
TZOFFSETTO:-0500
TZNAME:CDT
DTSTART:20230312T080000
END:DAYLIGHT
BEGIN:STANDARD
TZOFFSETFROM:-0500
TZOFFSETTO:-0600
TZNAME:CST
DTSTART:20231105T070000
END:STANDARD
END:VTIMEZONE
BEGIN:VEVENT
DTSTART;VALUE=DATE:20211201
DTEND;VALUE=DATE:20220130
DTSTAMP:20260423T060605
CREATED:20211124T012411Z
LAST-MODIFIED:20211222T214140Z
UID:10000141-1638316800-1643500799@explorespicer.com
SUMMARY:WinterFest: Spicer Lions Winterfest Raffle
DESCRIPTION:Spicer Lions WinterFest Raffle Poster 2022 \nTickets on sale NOW! $2\,250 in cash and Gift Cards! Drawing to be held January 29\, 2022 (after the Polar Plunge). Tickets just $5 each! Tickets available from: Granite Community Bank\, Mel’s Sports Shop\, or any Lions member. For more info\, contact Todd @ 320-212-5600
URL:https://explorespicer.com/event/winterfest-spicer-lions-winterfest-raffle/
LOCATION:MN
END:VEVENT
BEGIN:VEVENT
DTSTART;VALUE=DATE:20211222
DTEND;VALUE=DATE:20220207
DTSTAMP:20260423T060605
CREATED:20211222T185726Z
LAST-MODIFIED:20211222T185740Z
UID:10000203-1640131200-1644191999@explorespicer.com
SUMMARY:WinterFest: PWELC Cross Country Skiing and Snowshoe Trails
DESCRIPTION:Prairie Woods Environmental Learning Center Cross Country Skiing and Snowshoe Trails \nX-country skis\, kick sleds\, snowshoes\, and fat-tire bike rentals are available $5/youth\, $10/adult member\, $20/adult nonmember for 2 hours. Call ahead 320-354-5894
URL:https://explorespicer.com/event/winterfest-pwelc-cross-country-skiing-and-snowshoe-trails/
LOCATION:Prairie Woods Environmental Learning Center\, 12718 10th St NE\, Spicer\, MN\, 56288\, United States
GEO:45.2446708;-95.0400459
X-APPLE-STRUCTURED-LOCATION;VALUE=URI;X-ADDRESS=Prairie Woods Environmental Learning Center 12718 10th St NE Spicer MN 56288 United States;X-APPLE-RADIUS=500;X-TITLE=12718 10th St NE:geo:-95.0400459,45.2446708
END:VEVENT
BEGIN:VEVENT
DTSTART;TZID=America/Chicago:20220126T190000
DTEND;TZID=America/Chicago:20220126T210000
DTSTAMP:20260423T060605
CREATED:20211124T013135Z
LAST-MODIFIED:20211124T013135Z
UID:10000152-1643223600-1643230800@explorespicer.com
SUMMARY:WinterFest: Bingo at Zorbaz
DESCRIPTION:
URL:https://explorespicer.com/event/winterfest-bingo-at-zorbaz/2022-01-26/
LOCATION:Zorbaz\, 159 Lake Ave S\, Spicer\, MN\, 56288\, United States
GEO:45.2303787;-94.936515
X-APPLE-STRUCTURED-LOCATION;VALUE=URI;X-ADDRESS=Zorbaz 159 Lake Ave S Spicer MN 56288 United States;X-APPLE-RADIUS=500;X-TITLE=159 Lake Ave S:geo:-94.936515,45.2303787
END:VEVENT
BEGIN:VEVENT
DTSTART;TZID=America/Chicago:20220128T170000
DTEND;TZID=America/Chicago:20220128T190000
DTSTAMP:20260423T060605
CREATED:20211124T011733Z
LAST-MODIFIED:20211124T011733Z
UID:10000137-1643389200-1643396400@explorespicer.com
SUMMARY:WinterFest: Polar Plunge Pre-Registration
DESCRIPTION:
URL:https://explorespicer.com/event/winterfest-polar-plunge-pre-registration/
LOCATION:Spicer American Legion\, 155 Lake Ave N\, Spicer\, MN\, 56288\, United States
GEO:45.23045;-94.9382623
X-APPLE-STRUCTURED-LOCATION;VALUE=URI;X-ADDRESS=Spicer American Legion 155 Lake Ave N Spicer MN 56288 United States;X-APPLE-RADIUS=500;X-TITLE=155 Lake Ave N:geo:-94.9382623,45.23045
END:VEVENT
BEGIN:VEVENT
DTSTART;TZID=America/Chicago:20220128T200000
DTEND;TZID=America/Chicago:20220129T000000
DTSTAMP:20260423T060605
CREATED:20211207T150123Z
LAST-MODIFIED:20211207T150123Z
UID:10000194-1643400000-1643414400@explorespicer.com
SUMMARY:WinterFest: Hicktown at O'Neil's
DESCRIPTION:
URL:https://explorespicer.com/event/winterfest-hicktown-at-oneils/
LOCATION:O’Neils\, 152 Lake Ave N\, Spicer\, MN\, 56288\, United States
GEO:45.2358481;-94.93903
X-APPLE-STRUCTURED-LOCATION;VALUE=URI;X-ADDRESS=O’Neils 152 Lake Ave N Spicer MN 56288 United States;X-APPLE-RADIUS=500;X-TITLE=152 Lake Ave N:geo:-94.93903,45.2358481
END:VEVENT
BEGIN:VEVENT
DTSTART;TZID=America/Chicago:20220128T220000
DTEND;TZID=America/Chicago:20220129T010000
DTSTAMP:20260423T060605
CREATED:20211124T013308Z
LAST-MODIFIED:20211124T013308Z
UID:10000159-1643407200-1643418000@explorespicer.com
SUMMARY:WinterFest: Karaoke at Zorbaz
DESCRIPTION:
URL:https://explorespicer.com/event/winterfest-karaoke-at-zorbaz/2022-01-28/
LOCATION:Zorbaz\, 159 Lake Ave S\, Spicer\, MN\, 56288\, United States
GEO:45.2303787;-94.936515
X-APPLE-STRUCTURED-LOCATION;VALUE=URI;X-ADDRESS=Zorbaz 159 Lake Ave S Spicer MN 56288 United States;X-APPLE-RADIUS=500;X-TITLE=159 Lake Ave S:geo:-94.936515,45.2303787
END:VEVENT
BEGIN:VEVENT
DTSTART;VALUE=DATE:20220129
DTEND;VALUE=DATE:20220131
DTSTAMP:20260423T060605
CREATED:20211207T153200Z
LAST-MODIFIED:20211207T153200Z
UID:10000198-1643414400-1643587199@explorespicer.com
SUMMARY:WinterFest: Green Lake Pond Hockey Tournament
DESCRIPTION:Get your team together and play 4 on 4 hockey. \nWeather permitting\, play will happen on the Spicer outdoor rink at Prairie Meadows Preschool. \nFor more information on the event\, email Jon at jonnieoneil@hotmail.com
URL:https://explorespicer.com/event/winterfest-green-lake-pond-hockey-tournament/
LOCATION:Spicer Outdoor Ice Rink @ Prairie Meadows\, 650 Agnes St NE\, Spicer\, MN\, 56288\, United States
ORGANIZER;CN="Jonathan Olson":MAILTO:jonnieoneil@hotmail.com
GEO:45.2342355;-94.953308
X-APPLE-STRUCTURED-LOCATION;VALUE=URI;X-ADDRESS=Spicer Outdoor Ice Rink @ Prairie Meadows 650 Agnes St NE Spicer MN 56288 United States;X-APPLE-RADIUS=500;X-TITLE=650 Agnes St NE:geo:-94.953308,45.2342355
END:VEVENT
BEGIN:VEVENT
DTSTART;TZID=America/Chicago:20220129T090000
DTEND;TZID=America/Chicago:20220129T110000
DTSTAMP:20260423T060605
CREATED:20211124T012022Z
LAST-MODIFIED:20211124T012022Z
UID:10000139-1643446800-1643454000@explorespicer.com
SUMMARY:WinterFest: Polar Plunge Registration
DESCRIPTION:
URL:https://explorespicer.com/event/winterfest-polar-plunge-registration/
LOCATION:Spicer American Legion\, 155 Lake Ave N\, Spicer\, MN\, 56288\, United States
GEO:45.23045;-94.9382623
X-APPLE-STRUCTURED-LOCATION;VALUE=URI;X-ADDRESS=Spicer American Legion 155 Lake Ave N Spicer MN 56288 United States;X-APPLE-RADIUS=500;X-TITLE=155 Lake Ave N:geo:-94.9382623,45.23045
END:VEVENT
BEGIN:VEVENT
DTSTART;TZID=America/Chicago:20220129T090000
DTEND;TZID=America/Chicago:20220129T120000
DTSTAMP:20260423T060605
CREATED:20211124T011927Z
LAST-MODIFIED:20211213T181247Z
UID:10000138-1643446800-1643457600@explorespicer.com
SUMMARY:WinterFest: Frozen 5K Run/Walk
DESCRIPTION:https://runsignup.com/Race/MN/Spicer/WinterfestFrozen5K
URL:https://explorespicer.com/event/winterfest-frozen-5k-run-walk/
LOCATION:Zorbaz\, 159 Lake Ave S\, Spicer\, MN\, 56288\, United States
GEO:45.2303787;-94.936515
X-APPLE-STRUCTURED-LOCATION;VALUE=URI;X-ADDRESS=Zorbaz 159 Lake Ave S Spicer MN 56288 United States;X-APPLE-RADIUS=500;X-TITLE=159 Lake Ave S:geo:-94.936515,45.2303787
END:VEVENT
BEGIN:VEVENT
DTSTART;TZID=America/Chicago:20220129T090000
DTEND;TZID=America/Chicago:20220129T120000
DTSTAMP:20260423T060605
CREATED:20211201T012212Z
LAST-MODIFIED:20211201T012212Z
UID:10000189-1643446800-1643457600@explorespicer.com
SUMMARY:WinterFest: Dance meet at NLS High School
DESCRIPTION:Doors open at 9am
URL:https://explorespicer.com/event/winterfest-dance-meet-at-nls-high-school/
LOCATION:NLS High School\, 101 4th Ave SW\, New London\, MN\, 56273\, United States
GEO:45.2955593;-94.9428818
X-APPLE-STRUCTURED-LOCATION;VALUE=URI;X-ADDRESS=NLS High School 101 4th Ave SW New London MN 56273 United States;X-APPLE-RADIUS=500;X-TITLE=101 4th Ave SW:geo:-94.9428818,45.2955593
END:VEVENT
BEGIN:VEVENT
DTSTART;TZID=America/Chicago:20220129T120000
DTEND;TZID=America/Chicago:20220129T140000
DTSTAMP:20260423T060605
CREATED:20211124T012303Z
LAST-MODIFIED:20211124T012523Z
UID:10000140-1643457600-1643464800@explorespicer.com
SUMMARY:WinterFest: 17th Annual Polar Plunge 2022
DESCRIPTION:Location: Saulsbury Beach on Green Lake\, 12pm – Plunge \nA benefit for Special Olympics Minnesota  \nSponsored by Kandiyohi County Sheriff Office and Willmar Police Department \nTo register\, visit https://www.plungemn.org/events/willmarspicer/
URL:https://explorespicer.com/event/winterfest-17th-annual-polar-plunge-2022/
LOCATION:Saulsbury Beach\, 151 Lake Ave S.\, Spicer\, MN\, 56288\, United States
GEO:45.2312998;-94.93749
X-APPLE-STRUCTURED-LOCATION;VALUE=URI;X-ADDRESS=Saulsbury Beach 151 Lake Ave S. Spicer MN 56288 United States;X-APPLE-RADIUS=500;X-TITLE=151 Lake Ave S.:geo:-94.93749,45.2312998
END:VEVENT
BEGIN:VEVENT
DTSTART;TZID=America/Chicago:20220129T120000
DTEND;TZID=America/Chicago:20220129T180000
DTSTAMP:20260423T060605
CREATED:20211222T190149Z
LAST-MODIFIED:20211222T190149Z
UID:10000204-1643457600-1643479200@explorespicer.com
SUMMARY:WinterFest: Sledding by the Ice Castle
DESCRIPTION:(weather permitting)
URL:https://explorespicer.com/event/winterfest-sledding-by-the-ice-castle/
LOCATION:Saulsbury Beach\, 151 Lake Ave S.\, Spicer\, MN\, 56288\, United States
ORGANIZER;CN="Spicer Commercial Club":MAILTO:explorespicer@gmail.com
GEO:45.2312998;-94.93749
X-APPLE-STRUCTURED-LOCATION;VALUE=URI;X-ADDRESS=Saulsbury Beach 151 Lake Ave S. Spicer MN 56288 United States;X-APPLE-RADIUS=500;X-TITLE=151 Lake Ave S.:geo:-94.93749,45.2312998
END:VEVENT
BEGIN:VEVENT
DTSTART;TZID=America/Chicago:20220129T130000
DTEND;TZID=America/Chicago:20220129T150000
DTSTAMP:20260423T060605
CREATED:20211207T153416Z
LAST-MODIFIED:20220127T173557Z
UID:10000199-1643461200-1643468400@explorespicer.com
SUMMARY:WinterFest: Beat the WarHawk
DESCRIPTION:Beat the WarHawk and other hockey activities for kids \nWith the Willmar WarHawks and members of the River Lakes Hockey Association \nCome out and try to get one past a Willmar Warhawk goalie to win some great prizes including tickets to an upcoming Warhawks hockey game. \nOn the Spicer Outdoor Rink at Prairie Meadows Learning Center on county road 10 \nFor more info on the Willmar Warhawks\, including their game schedule\, please visit: WillmarWarhawks.com
URL:https://explorespicer.com/event/winterfest-beat-the-warhawk/
LOCATION:Spicer Outdoor Ice Rink @ Prairie Meadows\, 650 Agnes St NE\, Spicer\, MN\, 56288\, United States
GEO:45.2342355;-94.953308
X-APPLE-STRUCTURED-LOCATION;VALUE=URI;X-ADDRESS=Spicer Outdoor Ice Rink @ Prairie Meadows 650 Agnes St NE Spicer MN 56288 United States;X-APPLE-RADIUS=500;X-TITLE=650 Agnes St NE:geo:-94.953308,45.2342355
END:VEVENT
BEGIN:VEVENT
DTSTART;TZID=America/Chicago:20220129T140000
DTEND;TZID=America/Chicago:20220129T160000
DTSTAMP:20260423T060605
CREATED:20211124T012805Z
LAST-MODIFIED:20211213T180939Z
UID:10000145-1643464800-1643472000@explorespicer.com
SUMMARY:WinterFest: Kicksledding sponsored by GlenOaks Senior Living Campus
DESCRIPTION:
URL:https://explorespicer.com/event/winterfest-kicksledding-from-pwelc/
LOCATION:Green Lake\, Spicer\, MN\, 56288\, United States
GEO:45.2330198;-94.9400088
END:VEVENT
BEGIN:VEVENT
DTSTART;TZID=America/Chicago:20220129T140000
DTEND;TZID=America/Chicago:20220129T160000
DTSTAMP:20260423T060605
CREATED:20211222T190328Z
LAST-MODIFIED:20211222T190328Z
UID:10000205-1643464800-1643472000@explorespicer.com
SUMMARY:WinterFest: Tractor-Pulled Hay Ride
DESCRIPTION:
URL:https://explorespicer.com/event/winterfest-tractor-pulled-hay-ride/
LOCATION:Saulsbury Beach\, 151 Lake Ave S.\, Spicer\, MN\, 56288\, United States
ORGANIZER;CN="Spicer Commercial Club":MAILTO:explorespicer@gmail.com
GEO:45.2312998;-94.93749
X-APPLE-STRUCTURED-LOCATION;VALUE=URI;X-ADDRESS=Saulsbury Beach 151 Lake Ave S. Spicer MN 56288 United States;X-APPLE-RADIUS=500;X-TITLE=151 Lake Ave S.:geo:-94.93749,45.2312998
END:VEVENT
BEGIN:VEVENT
DTSTART;TZID=America/Chicago:20220129T140000
DTEND;TZID=America/Chicago:20220129T160000
DTSTAMP:20260423T060605
CREATED:20211222T190411Z
LAST-MODIFIED:20211222T190411Z
UID:10000206-1643464800-1643472000@explorespicer.com
SUMMARY:WinterFest: Disney Characters - meet & greet
DESCRIPTION:
URL:https://explorespicer.com/event/winterfest-disney-characters-meet-greet/
LOCATION:Saulsbury Beach\, 151 Lake Ave S.\, Spicer\, MN\, 56288\, United States
ORGANIZER;CN="Spicer Commercial Club":MAILTO:explorespicer@gmail.com
GEO:45.2312998;-94.93749
X-APPLE-STRUCTURED-LOCATION;VALUE=URI;X-ADDRESS=Saulsbury Beach 151 Lake Ave S. Spicer MN 56288 United States;X-APPLE-RADIUS=500;X-TITLE=151 Lake Ave S.:geo:-94.93749,45.2312998
END:VEVENT
BEGIN:VEVENT
DTSTART;TZID=America/Chicago:20220129T150000
DTEND;TZID=America/Chicago:20220129T180000
DTSTAMP:20260423T060605
CREATED:20211222T190510Z
LAST-MODIFIED:20211222T190510Z
UID:10000207-1643468400-1643479200@explorespicer.com
SUMMARY:WinterFest: Live Music by Jeff James
DESCRIPTION:
URL:https://explorespicer.com/event/winterfest-live-music-by-jeff-james/
LOCATION:Saulsbury Beach\, 151 Lake Ave S.\, Spicer\, MN\, 56288\, United States
ORGANIZER;CN="Spicer Commercial Club":MAILTO:explorespicer@gmail.com
GEO:45.2312998;-94.93749
X-APPLE-STRUCTURED-LOCATION;VALUE=URI;X-ADDRESS=Saulsbury Beach 151 Lake Ave S. Spicer MN 56288 United States;X-APPLE-RADIUS=500;X-TITLE=151 Lake Ave S.:geo:-94.93749,45.2312998
END:VEVENT
BEGIN:VEVENT
DTSTART;TZID=America/Chicago:20220129T160000
DTEND;TZID=America/Chicago:20220129T180000
DTSTAMP:20260423T060605
CREATED:20211207T153911Z
LAST-MODIFIED:20211207T153911Z
UID:10000200-1643472000-1643479200@explorespicer.com
SUMMARY:WinterFest: Bonfire at the Beach
DESCRIPTION:Join us for bonfires and s’mores on Saulsbury Beach\, sponsored by United Prairie Bank
URL:https://explorespicer.com/event/winterfest-bonfire-at-the-beach/
LOCATION:Saulsbury Beach\, 151 Lake Ave S.\, Spicer\, MN\, 56288\, United States
ORGANIZER;CN="Spicer Commercial Club":MAILTO:explorespicer@gmail.com
GEO:45.2312998;-94.93749
X-APPLE-STRUCTURED-LOCATION;VALUE=URI;X-ADDRESS=Saulsbury Beach 151 Lake Ave S. Spicer MN 56288 United States;X-APPLE-RADIUS=500;X-TITLE=151 Lake Ave S.:geo:-94.93749,45.2312998
END:VEVENT
BEGIN:VEVENT
DTSTART;TZID=America/Chicago:20220129T160000
DTEND;TZID=America/Chicago:20220129T180000
DTSTAMP:20260423T060605
CREATED:20211222T190559Z
LAST-MODIFIED:20211222T190559Z
UID:10000208-1643472000-1643479200@explorespicer.com
SUMMARY:WinterFest: Live Broadcast with Lakeland Broadcasting
DESCRIPTION:
URL:https://explorespicer.com/event/winterfest-live-broadcast-with-lakeland-broadcasting/
LOCATION:Saulsbury Beach\, 151 Lake Ave S.\, Spicer\, MN\, 56288\, United States
ORGANIZER;CN="Spicer Commercial Club":MAILTO:explorespicer@gmail.com
GEO:45.2312998;-94.93749
X-APPLE-STRUCTURED-LOCATION;VALUE=URI;X-ADDRESS=Saulsbury Beach 151 Lake Ave S. Spicer MN 56288 United States;X-APPLE-RADIUS=500;X-TITLE=151 Lake Ave S.:geo:-94.93749,45.2312998
END:VEVENT
BEGIN:VEVENT
DTSTART;TZID=America/Chicago:20220129T180000
DTEND;TZID=America/Chicago:20220129T190000
DTSTAMP:20260423T060605
CREATED:20211124T012617Z
LAST-MODIFIED:20211124T012617Z
UID:10000142-1643479200-1643482800@explorespicer.com
SUMMARY:WinterFest: Fireworks
DESCRIPTION:
URL:https://explorespicer.com/event/winterfest-fireworks/
LOCATION:Saulsbury Beach\, 151 Lake Ave S.\, Spicer\, MN\, 56288\, United States
GEO:45.2312998;-94.93749
X-APPLE-STRUCTURED-LOCATION;VALUE=URI;X-ADDRESS=Saulsbury Beach 151 Lake Ave S. Spicer MN 56288 United States;X-APPLE-RADIUS=500;X-TITLE=151 Lake Ave S.:geo:-94.93749,45.2312998
END:VEVENT
BEGIN:VEVENT
DTSTART;TZID=America/Chicago:20220129T190000
DTEND;TZID=America/Chicago:20220129T230000
DTSTAMP:20260423T060605
CREATED:20211124T012719Z
LAST-MODIFIED:20211222T214507Z
UID:10000143-1643482800-1643497200@explorespicer.com
SUMMARY:WinterFest: Fire On Ice Dance with the Dam Jammers
DESCRIPTION:
URL:https://explorespicer.com/event/winterfest-fire-on-ice-dance-with-the-dam-jammers/
LOCATION:Green Lake\, Spicer\, MN\, 56288\, United States
GEO:45.2330198;-94.9400088
END:VEVENT
BEGIN:VEVENT
DTSTART;TZID=America/Chicago:20220129T220000
DTEND;TZID=America/Chicago:20220130T020000
DTSTAMP:20260423T060605
CREATED:20211124T013418Z
LAST-MODIFIED:20211124T013418Z
UID:10000163-1643493600-1643508000@explorespicer.com
SUMMARY:WinterFest: DJ at Zorbaz
DESCRIPTION:
URL:https://explorespicer.com/event/winterfest-dj-at-zorbaz/2022-01-29/
LOCATION:Zorbaz\, 159 Lake Ave S\, Spicer\, MN\, 56288\, United States
GEO:45.2303787;-94.936515
X-APPLE-STRUCTURED-LOCATION;VALUE=URI;X-ADDRESS=Zorbaz 159 Lake Ave S Spicer MN 56288 United States;X-APPLE-RADIUS=500;X-TITLE=159 Lake Ave S:geo:-94.936515,45.2303787
END:VEVENT
BEGIN:VEVENT
DTSTART;TZID=America/Chicago:20220130T080000
DTEND;TZID=America/Chicago:20220130T123000
DTSTAMP:20260423T060605
CREATED:20211207T154205Z
LAST-MODIFIED:20211207T154205Z
UID:10000201-1643529600-1643545800@explorespicer.com
SUMMARY:WinterFest: Spicer American Legion Omelet Breakfast
DESCRIPTION:A fundraiser for the Sons of the American Legion
URL:https://explorespicer.com/event/winterfest-spicer-american-legion-omelet-breakfast/
LOCATION:Spicer American Legion\, 155 Lake Ave N\, Spicer\, MN\, 56288\, United States
GEO:45.23045;-94.9382623
X-APPLE-STRUCTURED-LOCATION;VALUE=URI;X-ADDRESS=Spicer American Legion 155 Lake Ave N Spicer MN 56288 United States;X-APPLE-RADIUS=500;X-TITLE=155 Lake Ave N:geo:-94.9382623,45.23045
END:VEVENT
BEGIN:VEVENT
DTSTART;TZID=America/Chicago:20220130T150000
DTEND;TZID=America/Chicago:20220130T180000
DTSTAMP:20260423T060605
CREATED:20211207T150339Z
LAST-MODIFIED:20211207T150339Z
UID:10000197-1643554800-1643565600@explorespicer.com
SUMMARY:WinterFest: Danny & Jason at O'Neil's
DESCRIPTION:
URL:https://explorespicer.com/event/winterfest-danny-jason-at-oneils/
LOCATION:O’Neils\, 152 Lake Ave N\, Spicer\, MN\, 56288\, United States
GEO:45.2358481;-94.93903
X-APPLE-STRUCTURED-LOCATION;VALUE=URI;X-ADDRESS=O’Neils 152 Lake Ave N Spicer MN 56288 United States;X-APPLE-RADIUS=500;X-TITLE=152 Lake Ave N:geo:-94.93903,45.2358481
END:VEVENT
BEGIN:VEVENT
DTSTART;TZID=America/Chicago:20220130T180000
DTEND;TZID=America/Chicago:20220130T190000
DTSTAMP:20260423T060605
CREATED:20211207T154305Z
LAST-MODIFIED:20211207T154305Z
UID:10000202-1643565600-1643569200@explorespicer.com
SUMMARY:WinterFest: Fireworks (back-up date)
DESCRIPTION:
URL:https://explorespicer.com/event/winterfest-fireworks-back-up-date/
LOCATION:Saulsbury Beach\, 151 Lake Ave S.\, Spicer\, MN\, 56288\, United States
ORGANIZER;CN="Spicer Commercial Club":MAILTO:explorespicer@gmail.com
GEO:45.2312998;-94.93749
X-APPLE-STRUCTURED-LOCATION;VALUE=URI;X-ADDRESS=Saulsbury Beach 151 Lake Ave S. Spicer MN 56288 United States;X-APPLE-RADIUS=500;X-TITLE=151 Lake Ave S.:geo:-94.93749,45.2312998
END:VEVENT
BEGIN:VEVENT
DTSTART;TZID=America/Chicago:20220202T190000
DTEND;TZID=America/Chicago:20220202T210000
DTSTAMP:20260423T060605
CREATED:20211124T013135Z
LAST-MODIFIED:20211124T013135Z
UID:10000153-1643828400-1643835600@explorespicer.com
SUMMARY:WinterFest: Bingo at Zorbaz
DESCRIPTION:
URL:https://explorespicer.com/event/winterfest-bingo-at-zorbaz/2022-02-02/
LOCATION:Zorbaz\, 159 Lake Ave S\, Spicer\, MN\, 56288\, United States
GEO:45.2303787;-94.936515
X-APPLE-STRUCTURED-LOCATION;VALUE=URI;X-ADDRESS=Zorbaz 159 Lake Ave S Spicer MN 56288 United States;X-APPLE-RADIUS=500;X-TITLE=159 Lake Ave S:geo:-94.936515,45.2303787
END:VEVENT
BEGIN:VEVENT
DTSTART;TZID=America/Chicago:20220204T220000
DTEND;TZID=America/Chicago:20220205T010000
DTSTAMP:20260423T060605
CREATED:20211124T013308Z
LAST-MODIFIED:20211124T013308Z
UID:10000160-1644012000-1644022800@explorespicer.com
SUMMARY:WinterFest: Karaoke at Zorbaz
DESCRIPTION:
URL:https://explorespicer.com/event/winterfest-karaoke-at-zorbaz/2022-02-04/
LOCATION:Zorbaz\, 159 Lake Ave S\, Spicer\, MN\, 56288\, United States
GEO:45.2303787;-94.936515
X-APPLE-STRUCTURED-LOCATION;VALUE=URI;X-ADDRESS=Zorbaz 159 Lake Ave S Spicer MN 56288 United States;X-APPLE-RADIUS=500;X-TITLE=159 Lake Ave S:geo:-94.936515,45.2303787
END:VEVENT
BEGIN:VEVENT
DTSTART;TZID=America/Chicago:20220205T090000
DTEND;TZID=America/Chicago:20220205T150000
DTSTAMP:20260423T060605
CREATED:20211124T012850Z
LAST-MODIFIED:20211222T214301Z
UID:10000147-1644051600-1644073200@explorespicer.com
SUMMARY:WinterFest: 9th Annual Tommy Swenson Memorial Ice Fishing Tournament
DESCRIPTION:9th Annual Tommy Swenson Memorial Ice Fishing Tournament Poster \nRegister at the Saulsbury Beach Landing 8:30-10:00am \nPrizes for largest fish and other prizes too  \nQuestions call Mary @ 320-212-2197
URL:https://explorespicer.com/event/winterfest-9th-annual-tommy-swenson-memorial-fishing-tournament/
LOCATION:Green Lake\, Spicer\, MN\, 56288\, United States
GEO:45.2330198;-94.9400088
END:VEVENT
BEGIN:VEVENT
DTSTART;TZID=America/Chicago:20220205T220000
DTEND;TZID=America/Chicago:20220206T020000
DTSTAMP:20260423T060605
CREATED:20211124T013418Z
LAST-MODIFIED:20211124T013418Z
UID:10000164-1644098400-1644112800@explorespicer.com
SUMMARY:WinterFest: DJ at Zorbaz
DESCRIPTION:
URL:https://explorespicer.com/event/winterfest-dj-at-zorbaz/2022-02-05/
LOCATION:Zorbaz\, 159 Lake Ave S\, Spicer\, MN\, 56288\, United States
GEO:45.2303787;-94.936515
X-APPLE-STRUCTURED-LOCATION;VALUE=URI;X-ADDRESS=Zorbaz 159 Lake Ave S Spicer MN 56288 United States;X-APPLE-RADIUS=500;X-TITLE=159 Lake Ave S:geo:-94.936515,45.2303787
END:VEVENT
BEGIN:VEVENT
DTSTART;TZID=America/Chicago:20220212T210000
DTEND;TZID=America/Chicago:20220213T000000
DTSTAMP:20260423T060605
CREATED:20211207T150203Z
LAST-MODIFIED:20211207T150630Z
UID:10000195-1644699600-1644710400@explorespicer.com
SUMMARY:WinterFest: Jeff James at O'Neil's
DESCRIPTION:
URL:https://explorespicer.com/event/winterfest-jeff-james-at-oneils/
LOCATION:O’Neils\, 152 Lake Ave N\, Spicer\, MN\, 56288\, United States
GEO:45.2358481;-94.93903
X-APPLE-STRUCTURED-LOCATION;VALUE=URI;X-ADDRESS=O’Neils 152 Lake Ave N Spicer MN 56288 United States;X-APPLE-RADIUS=500;X-TITLE=152 Lake Ave N:geo:-94.93903,45.2358481
END:VEVENT
END:VCALENDAR